BEGIN:VCALENDAR
VERSION:2.0
PRODID:-//Grace Lutheran Church - ECPv6.6.4.2//NONSGML v1.0//EN
CALSCALE:GREGORIAN
METHOD:PUBLISH
X-WR-CALNAME:Grace Lutheran Church
X-ORIGINAL-URL:https://www.gracelutheran-hsv.org
X-WR-CALDESC:Events for Grace Lutheran Church
REFRESH-INTERVAL;VALUE=DURATION:PT1H
X-Robots-Tag:noindex
X-PUBLISHED-TTL:PT1H
BEGIN:VTIMEZONE
TZID:America/Chicago
BEGIN:DAYLIGHT
TZOFFSETFROM:-0600
TZOFFSETTO:-0500
TZNAME:CDT
DTSTART:20240310T080000
END:DAYLIGHT
BEGIN:STANDARD
TZOFFSETFROM:-0500
TZOFFSETTO:-0600
TZNAME:CST
DTSTART:20241103T070000
END:STANDARD
END:VTIMEZONE
BEGIN:VEVENT
DTSTART;TZID=America/Chicago:20240223T183000
DTEND;TZID=America/Chicago:20240223T200000
DTSTAMP:20260421T025703
CREATED:20240131T175428Z
LAST-MODIFIED:20240131T175428Z
UID:1494-1708713000-1708718400@www.gracelutheran-hsv.org
SUMMARY:Trivia Night
DESCRIPTION:To raise money for the 7th and 8th grade trip to Saint Louis\, Grace Lutheran School will be hosting a Trivia Night on February 23rd at 6:30PM in the FLC gym. The entry fee is $8/person and participants can reserve a team table (up to 8 people)\, a partial table\, or register as an individual and be added to a team. Concessions will also be available for purchase. \nSign-up now. Support the school while enjoying an evening of fellowship and friendly competition!
URL:https://www.gracelutheran-hsv.org/events/trivia-night/
LOCATION:Grace Lutheran School\, United States
ATTACH;FMTTYPE=image/png:https://www.gracelutheran-hsv.org/wp-content/uploads/2024/01/Trivia-Night.png
END:VEVENT
END:VCALENDAR