BEGIN:VCALENDAR
VERSION:2.0
PRODID:-//Grace Lutheran Church - ECPv6.6.4.2//NONSGML v1.0//EN
CALSCALE:GREGORIAN
METHOD:PUBLISH
X-ORIGINAL-URL:https://www.gracelutheran-hsv.org
X-WR-CALDESC:Events for Grace Lutheran Church
REFRESH-INTERVAL;VALUE=DURATION:PT1H
X-Robots-Tag:noindex
X-PUBLISHED-TTL:PT1H
BEGIN:VTIMEZONE
TZID:America/Chicago
BEGIN:DAYLIGHT
TZOFFSETFROM:-0600
TZOFFSETTO:-0500
TZNAME:CDT
DTSTART:20230312T080000
END:DAYLIGHT
BEGIN:STANDARD
TZOFFSETFROM:-0500
TZOFFSETTO:-0600
TZNAME:CST
DTSTART:20231105T070000
END:STANDARD
END:VTIMEZONE
BEGIN:VEVENT
DTSTART;VALUE=DATE:20231017
DTEND;VALUE=DATE:20231018
DTSTAMP:20260422T033412
CREATED:20230828T161042Z
LAST-MODIFIED:20231011T141235Z
UID:1357-1697500800-1697587199@www.gracelutheran-hsv.org
SUMMARY:Spirit Night at Steak-Out
DESCRIPTION:Are you hankering for a steak? On Tuesday\, October 17\, you can support Grace Lutheran School by ordering lunch or dinner (or both!) from Steak-Out. Just mention Grace Lutheran Spirit Night and a portion of the proceeds from the day will be donated to the PTL for the School. This is for all Steak-Out locations in the Madison County area\, from 11:00 AM – 9:00 PM. For online orders\, put “For Grace Lutheran Spirit Night” in the comments section.
URL:https://www.gracelutheran-hsv.org/events/spirit-night-at-steak-out-2/
LOCATION:Steak-Out
ATTACH;FMTTYPE=image/png:https://www.gracelutheran-hsv.org/wp-content/uploads/2023/10/Spirit-Night-Steak-Out-10172023.png
END:VEVENT
END:VCALENDAR