BEGIN:VCALENDAR
VERSION:2.0
PRODID:-//Grace Lutheran Church - ECPv6.6.4.2//NONSGML v1.0//EN
CALSCALE:GREGORIAN
METHOD:PUBLISH
X-WR-CALNAME:Grace Lutheran Church
X-ORIGINAL-URL:https://www.gracelutheran-hsv.org
X-WR-CALDESC:Events for Grace Lutheran Church
REFRESH-INTERVAL;VALUE=DURATION:PT1H
X-Robots-Tag:noindex
X-PUBLISHED-TTL:PT1H
BEGIN:VTIMEZONE
TZID:America/Chicago
BEGIN:DAYLIGHT
TZOFFSETFROM:-0600
TZOFFSETTO:-0500
TZNAME:CDT
DTSTART:20230312T080000
END:DAYLIGHT
BEGIN:STANDARD
TZOFFSETFROM:-0500
TZOFFSETTO:-0600
TZNAME:CST
DTSTART:20231105T070000
END:STANDARD
END:VTIMEZONE
BEGIN:VEVENT
DTSTART;VALUE=DATE:20230204
DTEND;VALUE=DATE:20230206
DTSTAMP:20260425T061811
CREATED:20230110T194955Z
LAST-MODIFIED:20230123T191956Z
UID:1091-1675468800-1675641599@www.gracelutheran-hsv.org
SUMMARY:Discovering Grace
DESCRIPTION:God’s grace makes a difference for persons in their daily life! Are you seeking to grow in God’s grace or desiring to make a fresh start in your spiritual journey? \nGrace Lutheran offers a Discovering Grace class that is designed for those wanting to learn more about our Church\, School\, and CDC discipleship process – WORSHIP | GROW | ENGAGE. The next class will meet on Saturday\, February 4 (9 am – 12 noon) and during the Sunday School/Bible Class hour on Sunday\, February 5. Sign up here. \nFor more information on becoming a member\, please contact Gene Menzel at (256) 881-0552 or gene.menzel@gls-hsv.org.
URL:https://www.gracelutheran-hsv.org/events/discovering-grace-3/
LOCATION:Grace Lutheran Church
ATTACH;FMTTYPE=image/png:https://www.gracelutheran-hsv.org/wp-content/uploads/2023/01/Discovering-Grace-020423-v2-e1674501533455.png
END:VEVENT
BEGIN:VEVENT
DTSTART;VALUE=DATE:20230204
DTEND;VALUE=DATE:20230205
DTSTAMP:20260425T061811
CREATED:20230118T161543Z
LAST-MODIFIED:20230201T141424Z
UID:1102-1675468800-1675555199@www.gracelutheran-hsv.org
SUMMARY:UAH Basketball Games Fellowship Outing
DESCRIPTION:Grace Lutheran will host a fellowship outing on Saturday\, February 4 at the UAH Chargers basketball games at 2:00 pm and 4:00 pm in Spragins Hall on the UAH campus. The women’s team plays at 2:00 pm\, and the men’s team plays at 4:00 pm. There is no cost for the games. We will meet at Spragins Hall and sit together as a group for the games. A sign-up sheet is located in the narthex on the easel or register here.
URL:https://www.gracelutheran-hsv.org/events/fellowship-at-uah-basketball-games/
LOCATION:UAH Spragins Hall
ATTACH;FMTTYPE=image/jpeg:https://www.gracelutheran-hsv.org/wp-content/uploads/2023/01/UAH-Chargers-3-scaled-e1674059549817.jpg
END:VEVENT
END:VCALENDAR